BEGIN:VCALENDAR
VERSION:2.0
PRODID:spatie/icalendar-generator
NAME:OTC Brazil - Offshore Technology Conference 2019
X-WR-CALNAME:OTC Brazil - Offshore Technology Conference 2019
BEGIN:VTIMEZONE
TZID:America/Sao_Paulo
BEGIN:STANDARD
DTSTART:20190216T230000
TZOFFSETFROM:-0200
TZOFFSETTO:-0300
END:STANDARD
END:VTIMEZONE
BEGIN:VTIMEZONE
TZID:UTC
BEGIN:STANDARD
DTSTART:20250725T101323
TZOFFSETFROM:+0000
TZOFFSETTO:+0000
END:STANDARD
END:VTIMEZONE
BEGIN:VEVENT
UID:69e74dc37b122
DTSTAMP:20260421T101323Z
SUMMARY:OTC Brazil - Offshore Technology Conference 2019
DESCRIPTION:OTC Brasil&nbsp\;é&nbsp\;um evento realizado pela&nbsp\;Offsho
 re Technology Conference (OTC) no Brasil\, o primeiro a acontecer&nbsp\;fo
 ra...
LOCATION:R. Beatriz Larragoiti Lucas Cidade Nova - Centro Rio de Janeiro - 
 RJ
DTSTART;TZID=America/Sao_Paulo:20191029T000000
DTEND;TZID=America/Sao_Paulo:20191031T000000
BEGIN:VALARM
ACTION:DISPLAY
DESCRIPTION:OTC Brazil - Offshore Technology Conference 2019 começa em 1 s
 emana
TRIGGER:-PT10080M
END:VALARM
END:VEVENT
END:VCALENDAR