BEGIN:VCALENDAR
VERSION:2.0
PRODID:spatie/icalendar-generator
NAME:KITCHEN & BATH EXPO 2013
X-WR-CALNAME:KITCHEN & BATH EXPO 2013
BEGIN:VTIMEZONE
TZID:America/Sao_Paulo
BEGIN:DAYLIGHT
DTSTART:20121020T230000
TZOFFSETFROM:-0300
TZOFFSETTO:-0200
END:DAYLIGHT
BEGIN:STANDARD
DTSTART:20130216T230000
TZOFFSETFROM:-0200
TZOFFSETTO:-0300
END:STANDARD
BEGIN:DAYLIGHT
DTSTART:20131019T230000
TZOFFSETFROM:-0300
TZOFFSETTO:-0200
END:DAYLIGHT
END:VTIMEZONE
BEGIN:VTIMEZONE
TZID:UTC
BEGIN:STANDARD
DTSTART:20250725T101058
TZOFFSETFROM:+0000
TZOFFSETTO:+0000
END:STANDARD
END:VTIMEZONE
BEGIN:VEVENT
UID:69e74d32acd63
DTSTAMP:20260421T101058Z
SUMMARY:KITCHEN & BATH EXPO 2013
DESCRIPTION:Kitchen and Bath Expo &eacute\; a feira do Brasil para o lan&cc
 edil\;amento de produtos e a exibi&ccedil\;&atilde\;o das pr&oacute\;ximas
 ...
LOCATION:Av. Doutor Mário Vilas Boas Rodrigues
DTSTART;TZID=America/Sao_Paulo:20130703T000000
DTEND;TZID=America/Sao_Paulo:20130705T000000
BEGIN:VALARM
ACTION:DISPLAY
DESCRIPTION:KITCHEN & BATH EXPO 2013 começa em 1 semana
TRIGGER:-PT10080M
END:VALARM
END:VEVENT
END:VCALENDAR