BEGIN:VCALENDAR
VERSION:2.0
PRODID:spatie/icalendar-generator
NAME:KITCHEN & BATH EXPO 2009
X-WR-CALNAME:KITCHEN & BATH EXPO 2009
BEGIN:VTIMEZONE
TZID:America/Sao_Paulo
BEGIN:DAYLIGHT
DTSTART:20081018T230000
TZOFFSETFROM:-0300
TZOFFSETTO:-0200
END:DAYLIGHT
BEGIN:STANDARD
DTSTART:20090214T230000
TZOFFSETFROM:-0200
TZOFFSETTO:-0300
END:STANDARD
END:VTIMEZONE
BEGIN:VTIMEZONE
TZID:UTC
BEGIN:STANDARD
DTSTART:20250725T101057
TZOFFSETFROM:+0000
TZOFFSETTO:+0000
END:STANDARD
END:VTIMEZONE
BEGIN:VEVENT
UID:69e74d31cccaa
DTSTAMP:20260421T101057Z
SUMMARY:KITCHEN & BATH EXPO 2009
DESCRIPTION:Kitchen and Bath Expo &eacute\; a feira do Brasil para o lan&cc
 edil\;amento de produtos e a exibi&ccedil\;&atilde\;o das pr&oacute\;ximas
 ...
LOCATION:Av. Doutor Mário Vilas Boas Rodrigues
DTSTART;TZID=America/Sao_Paulo:20090324T000000
DTEND;TZID=America/Sao_Paulo:20090327T000000
BEGIN:VALARM
ACTION:DISPLAY
DESCRIPTION:KITCHEN & BATH EXPO 2009 começa em 1 semana
TRIGGER:-PT10080M
END:VALARM
END:VEVENT
END:VCALENDAR